BEGIN:VCALENDAR
VERSION:2.0
PRODID:-//wp-events-plugin.com//6.4.7.1//EN
BEGIN:VEVENT
UID:18@portalbibliotecadigital.iplacex.cl
DTSTART;TZID=America/Santiago:20240515T183000
DTEND;TZID=America/Santiago:20240515T193000
DTSTAMP:20240314T143810Z
URL:https://portalbibliotecadigital.iplacex.cl/events/taller-busqueda-en-r
 evistas-de-acceso-abierto/
SUMMARY:Taller: Búsqueda en revistas de acceso abierto
DESCRIPTION:Objetivo: Taller que aborda aspectos conceptuales y prácticos\
 , para conocer y elegir revistas académicas de acceso abierto\, a partir 
 de su importancia y plataformas en que éstas se encuentran disponibles.\n
 \nFecha: Miércoles 15 de mayo\n\nHora: 18:30 hrs. Vía Teams\n\nRelator: 
 Ricardo Vilches
LOCATION:#
END:VEVENT
BEGIN:VTIMEZONE
TZID:America/Santiago
X-LIC-LOCATION:America/Santiago
BEGIN:STANDARD
DTSTART:20240406T230000
TZOFFSETFROM:-0300
TZOFFSETTO:-0400
TZNAME:-04
END:STANDARD
END:VTIMEZONE
END:VCALENDAR